BEGIN:VCALENDAR
VERSION:2.0
PRODID:-//Kruidenvallei.nl - ECPv6.15.20//NONSGML v1.0//EN
CALSCALE:GREGORIAN
METHOD:PUBLISH
X-WR-CALNAME:Kruidenvallei.nl
X-ORIGINAL-URL:https://kruidenvallei.nl
X-WR-CALDESC:Evenementen voor Kruidenvallei.nl
REFRESH-INTERVAL;VALUE=DURATION:PT1H
X-Robots-Tag:noindex
X-PUBLISHED-TTL:PT1H
BEGIN:VTIMEZONE
TZID:Europe/Amsterdam
BEGIN:DAYLIGHT
TZOFFSETFROM:+0100
TZOFFSETTO:+0200
TZNAME:CEST
DTSTART:20250330T010000
END:DAYLIGHT
BEGIN:STANDARD
TZOFFSETFROM:+0200
TZOFFSETTO:+0100
TZNAME:CET
DTSTART:20251026T010000
END:STANDARD
BEGIN:DAYLIGHT
TZOFFSETFROM:+0100
TZOFFSETTO:+0200
TZNAME:CEST
DTSTART:20260329T010000
END:DAYLIGHT
BEGIN:STANDARD
TZOFFSETFROM:+0200
TZOFFSETTO:+0100
TZNAME:CET
DTSTART:20261025T010000
END:STANDARD
BEGIN:DAYLIGHT
TZOFFSETFROM:+0100
TZOFFSETTO:+0200
TZNAME:CEST
DTSTART:20270328T010000
END:DAYLIGHT
BEGIN:STANDARD
TZOFFSETFROM:+0200
TZOFFSETTO:+0100
TZNAME:CET
DTSTART:20271031T010000
END:STANDARD
END:VTIMEZONE
BEGIN:VEVENT
DTSTART;TZID=Europe/Amsterdam:20260724T130000
DTEND;TZID=Europe/Amsterdam:20260724T210000
DTSTAMP:20260425T141830
CREATED:20260421T150951Z
LAST-MODIFIED:20260421T150951Z
UID:54492-1784898000-1784926800@kruidenvallei.nl
SUMMARY:Braderie | Putten | 24-07-2026
DESCRIPTION:🌞Braderie | Putten🌞\nTerug van weggeweest: de gezellige Puttense braderie!Kom gezellig struinen langs meer dan 60 kramen vol leuke\, lekkere en verrassende producten. Van handgemaakte items tot lokale lekkernijen – er is voor ieder wat wils! \nDe omliggende horeca zorgt voor extra sfeer met livemuziek en leuke (kinder)activiteiten. Een dag vol plezier voor jong en oud! Mis het niet! \nDatum:\nVrijdag 24 Juli \nTijdstip:\n13:00 – 21:00 \nAdres:\nCentrum Putten\nKerkplein 15\n3881 BH Putten
URL:https://kruidenvallei.nl/event/braderie-putten-24-07-2026/
LOCATION:Putten\, Kerkplein 15\, Putten\, Gelderland\, 3881 BH\, Netherlands
CATEGORIES:Markten
END:VEVENT
BEGIN:VEVENT
DTSTART;TZID=Europe/Amsterdam:20260807T130000
DTEND;TZID=Europe/Amsterdam:20260807T210000
DTSTAMP:20260425T141830
CREATED:20260421T151152Z
LAST-MODIFIED:20260421T151152Z
UID:54494-1786107600-1786136400@kruidenvallei.nl
SUMMARY:Braderie | Putten | 07-08-2026
DESCRIPTION:🌞Braderie | Putten🌞\nTerug van weggeweest: de gezellige Puttense braderie!Kom gezellig struinen langs meer dan 60 kramen vol leuke\, lekkere en verrassende producten. Van handgemaakte items tot lokale lekkernijen – er is voor ieder wat wils! \nDe omliggende horeca zorgt voor extra sfeer met livemuziek en leuke (kinder)activiteiten. Een dag vol plezier voor jong en oud! Mis het niet! \nDatum:\nVrijdag 07 Augustus \nTijdstip:\n13:00 – 21:00 \nAdres:\nCentrum Putten\nKerkplein 15\n3881 BH Putten
URL:https://kruidenvallei.nl/event/braderie-putten-07-08-2026/
LOCATION:Putten\, Kerkplein 15\, Putten\, Gelderland\, 3881 BH\, Netherlands
CATEGORIES:Markten
END:VEVENT
BEGIN:VEVENT
DTSTART;TZID=Europe/Amsterdam:20260821T130000
DTEND;TZID=Europe/Amsterdam:20260821T210000
DTSTAMP:20260425T141830
CREATED:20260421T151358Z
LAST-MODIFIED:20260421T151358Z
UID:54496-1787317200-1787346000@kruidenvallei.nl
SUMMARY:Braderie | Putten | 21-08-2026
DESCRIPTION:🌞Braderie | Putten🌞\nTerug van weggeweest: de gezellige Puttense braderie!Kom gezellig struinen langs meer dan 60 kramen vol leuke\, lekkere en verrassende producten. Van handgemaakte items tot lokale lekkernijen – er is voor ieder wat wils! \nDe omliggende horeca zorgt voor extra sfeer met livemuziek en leuke (kinder)activiteiten. Een dag vol plezier voor jong en oud! Mis het niet! \nDatum:\nVrijdag 21 Augustus \nTijdstip:\n13:00 – 21:00 \nAdres:\nCentrum Putten\nKerkplein 15\n3881 BH Putten
URL:https://kruidenvallei.nl/event/braderie-putten-21-08-2026/
LOCATION:Putten\, Kerkplein 15\, Putten\, Gelderland\, 3881 BH\, Netherlands
CATEGORIES:Markten
END:VEVENT
END:VCALENDAR