BEGIN:VCALENDAR
VERSION:2.0
PRODID:-//Kruidenvallei.nl - ECPv6.15.20//NONSGML v1.0//EN
CALSCALE:GREGORIAN
METHOD:PUBLISH
X-ORIGINAL-URL:https://kruidenvallei.nl
X-WR-CALDESC:Evenementen voor Kruidenvallei.nl
REFRESH-INTERVAL;VALUE=DURATION:PT1H
X-Robots-Tag:noindex
X-PUBLISHED-TTL:PT1H
BEGIN:VTIMEZONE
TZID:Europe/Amsterdam
BEGIN:DAYLIGHT
TZOFFSETFROM:+0100
TZOFFSETTO:+0200
TZNAME:CEST
DTSTART:20250330T010000
END:DAYLIGHT
BEGIN:STANDARD
TZOFFSETFROM:+0200
TZOFFSETTO:+0100
TZNAME:CET
DTSTART:20251026T010000
END:STANDARD
BEGIN:DAYLIGHT
TZOFFSETFROM:+0100
TZOFFSETTO:+0200
TZNAME:CEST
DTSTART:20260329T010000
END:DAYLIGHT
BEGIN:STANDARD
TZOFFSETFROM:+0200
TZOFFSETTO:+0100
TZNAME:CET
DTSTART:20261025T010000
END:STANDARD
BEGIN:DAYLIGHT
TZOFFSETFROM:+0100
TZOFFSETTO:+0200
TZNAME:CEST
DTSTART:20270328T010000
END:DAYLIGHT
BEGIN:STANDARD
TZOFFSETFROM:+0200
TZOFFSETTO:+0100
TZNAME:CET
DTSTART:20271031T010000
END:STANDARD
END:VTIMEZONE
BEGIN:VEVENT
DTSTART;TZID=Europe/Amsterdam:20260426T120000
DTEND;TZID=Europe/Amsterdam:20260426T170000
DTSTAMP:20260425T155806
CREATED:20260407T074410Z
LAST-MODIFIED:20260420T184248Z
UID:54392-1777204800-1777222800@kruidenvallei.nl
SUMMARY:Streekmarkt | Houten | 26-04-2026
DESCRIPTION:🥖🍎 Streekmarkt | Houten 🍎🥖\nOp zondag 26 april bruist het Oude Dorp van Houten van gezelligheid tijdens de Streekmarkt op Het Plein. Van 12.00 tot 17.00 uur kun je genieten van het beste wat de regio te bieden heeft: verse streekproducten\, ambachtelijke lekkernijen en bijzondere specialiteiten. \nKom struinen langs de kramen\, ontmoet de makers en proef de pure smaken van het seizoen. Een sfeervolle middag uit\, midden in het hart van Houten! \nDatum:\nZondag 26 april \nTijdstip:\n12:00 – 17:00 \nAdres:\nHet Plein (Oude Dorp)\n3991 DK
URL:https://kruidenvallei.nl/event/streekmarkt-houten-26-4-2026/
LOCATION:Streekmarkt Houten\, Het Plein (Oude Dorp)\, Houten\, 3991 DK\, Netherlands
CATEGORIES:Markten
END:VEVENT
END:VCALENDAR